BEGIN:VCALENDAR
VERSION:2.0
PRODID:-//SP Zürich - ECPv6.15.20//NONSGML v1.0//EN
CALSCALE:GREGORIAN
METHOD:PUBLISH
X-WR-CALNAME:SP Zürich
X-ORIGINAL-URL:https://spzuerich.ch
X-WR-CALDESC:Veranstaltungen für SP Zürich
REFRESH-INTERVAL;VALUE=DURATION:PT1H
X-Robots-Tag:noindex
X-PUBLISHED-TTL:PT1H
BEGIN:VTIMEZONE
TZID:Europe/Zurich
BEGIN:DAYLIGHT
TZOFFSETFROM:+0100
TZOFFSETTO:+0200
TZNAME:CEST
DTSTART:20240331T010000
END:DAYLIGHT
BEGIN:STANDARD
TZOFFSETFROM:+0200
TZOFFSETTO:+0100
TZNAME:CET
DTSTART:20241027T010000
END:STANDARD
BEGIN:DAYLIGHT
TZOFFSETFROM:+0100
TZOFFSETTO:+0200
TZNAME:CEST
DTSTART:20250330T010000
END:DAYLIGHT
BEGIN:STANDARD
TZOFFSETFROM:+0200
TZOFFSETTO:+0100
TZNAME:CET
DTSTART:20251026T010000
END:STANDARD
BEGIN:DAYLIGHT
TZOFFSETFROM:+0100
TZOFFSETTO:+0200
TZNAME:CEST
DTSTART:20260329T010000
END:DAYLIGHT
BEGIN:STANDARD
TZOFFSETFROM:+0200
TZOFFSETTO:+0100
TZNAME:CET
DTSTART:20261025T010000
END:STANDARD
END:VTIMEZONE
BEGIN:VEVENT
DTSTART;TZID=Europe/Zurich:20250501T103000
DTEND;TZID=Europe/Zurich:20250501T170000
DTSTAMP:20260425T184204
CREATED:20250417T085925Z
LAST-MODIFIED:20250417T103344Z
UID:94011-1746095400-1746118800@spzuerich.ch
SUMMARY:1. Mai-Demo in Winterthur
DESCRIPTION:10:30 Uhr Start der 1. Mai-Demo beim Neumarkt \nNach der Demo: \n12:00 Uhr 1. Mai-Fest in der Reithalle\n13:00 Uhr Reden von Nationalrätin Mattea Meyer\, Kantonsrätin Michèle Dünki-Bättig\, Ärztin und Aktivistin Bea Albermann\, Monda Futura\, AL\, Unia\, VPOD\n15:00 Uhr Musik von Myla Lei\, Olekanone & Nova
URL:https://spzuerich.ch/veranstaltung/1-mai-demo-in-winterthur/
LOCATION:Neumarkt Winterthur\, Neumarkt\, Winterthur\, 8400
CATEGORIES:1. Mai
END:VEVENT
END:VCALENDAR