BEGIN:VCALENDAR
VERSION:2.0
PRODID:-//SP Zürich - ECPv6.15.20//NONSGML v1.0//EN
CALSCALE:GREGORIAN
METHOD:PUBLISH
X-WR-CALNAME:SP Zürich
X-ORIGINAL-URL:https://spzuerich.ch
X-WR-CALDESC:Veranstaltungen für SP Zürich
REFRESH-INTERVAL;VALUE=DURATION:PT1H
X-Robots-Tag:noindex
X-PUBLISHED-TTL:PT1H
BEGIN:VTIMEZONE
TZID:Europe/Zurich
BEGIN:DAYLIGHT
TZOFFSETFROM:+0100
TZOFFSETTO:+0200
TZNAME:CEST
DTSTART:20220327T010000
END:DAYLIGHT
BEGIN:STANDARD
TZOFFSETFROM:+0200
TZOFFSETTO:+0100
TZNAME:CET
DTSTART:20221030T010000
END:STANDARD
BEGIN:DAYLIGHT
TZOFFSETFROM:+0100
TZOFFSETTO:+0200
TZNAME:CEST
DTSTART:20230326T010000
END:DAYLIGHT
BEGIN:STANDARD
TZOFFSETFROM:+0200
TZOFFSETTO:+0100
TZNAME:CET
DTSTART:20231029T010000
END:STANDARD
BEGIN:DAYLIGHT
TZOFFSETFROM:+0100
TZOFFSETTO:+0200
TZNAME:CEST
DTSTART:20240331T010000
END:DAYLIGHT
BEGIN:STANDARD
TZOFFSETFROM:+0200
TZOFFSETTO:+0100
TZNAME:CET
DTSTART:20241027T010000
END:STANDARD
END:VTIMEZONE
BEGIN:VEVENT
DTSTART;TZID=Europe/Zurich:20231118T103000
DTEND;TZID=Europe/Zurich:20231118T130000
DTSTAMP:20260420T162316
CREATED:20230831T062723Z
LAST-MODIFIED:20231025T085111Z
UID:87921-1700303400-1700312400@spzuerich.ch
SUMMARY:Bildungsmorgen der Bildungskommission der SP Kanton Zürich
DESCRIPTION:Berufsvorbereitungsschule Winterthur\, Rudolf-Diesel Strasse 10\, Winterthur \n\n\n\nAnreise: Bus 5 oder 7 ab HB bis Haltestelle Grüzemärkte. Es hat wenige Parkplätze vor dem Haus und beim Coop Grüzemarkt gegenüber. \n\n\n\n  \nThema: Lehrpersonenausbildung und Lehrpersonenweiterbildung \nEinführung: Steven Leung\, Rektor Berufsvorbereitungsschule Winterthur \nReferent:innen: \n\n\n\n\nSilja Rüedi\, Prorektorin Ausbildung PHZH\nChristine Neresheimer Mori\, Leiterin Abteilung Primarstufe PHZH\nEsther Forrer\, Leiterin Abteilung Eingangsstufe PHZH\n\nWie sehen die jetzigen Ausbildungsmöglichkeiten aus?\nWelche Studiengänge sind für Poldis angedacht? (flexible Ausbildungsmöglichkeiten?) Wie kann die Aus- und Weiterbildung erwachsenengerecht gestaltet werden?\nWie bereitet die PH Zürich Student*innen auf Herausforderungen in der Praxis vor? Was erwarten die Ausbildungsverantwortlichen von der Politik\, damit sie ihre Ausbildungen auf zukünftige Herausforderungen ausrichten können?\nWas kann die PH gegen den Lehrpersonenmangel unternehmen? (Fragen der Zulassung\, Anerkennung ausländischer Diplome etc.)\nWie bereitet die PH die Studierenden auf die Heterogenität der Schülerschaft vor? (Zusammenarbeit PH/HfH/DaZ?) \nWir freuen uns auf einen spannenden Austausch!\nAnmeldungen bitte bis 24. Oktober gerne an lhuebsch@spzuerich.ch \n\n\n\n\nBildungskommission Kanton Zürich \nKarin Saxer und Lukas Sigrist \n  \n\nHier gehts zum PDF.\n\n\n 
URL:https://spzuerich.ch/veranstaltung/2023-bildungsmorgen-der-bildungskommission-der-sp-kanton-zuerich/
CATEGORIES:Fachkommission
END:VEVENT
END:VCALENDAR