BEGIN:VCALENDAR
VERSION:2.0
PRODID:-//SP Zürich - ECPv6.15.20//NONSGML v1.0//EN
CALSCALE:GREGORIAN
METHOD:PUBLISH
X-WR-CALNAME:SP Zürich
X-ORIGINAL-URL:https://spzuerich.ch
X-WR-CALDESC:Veranstaltungen für SP Zürich
REFRESH-INTERVAL;VALUE=DURATION:PT1H
X-Robots-Tag:noindex
X-PUBLISHED-TTL:PT1H
BEGIN:VTIMEZONE
TZID:Europe/Zurich
BEGIN:DAYLIGHT
TZOFFSETFROM:+0100
TZOFFSETTO:+0200
TZNAME:CEST
DTSTART:20220327T010000
END:DAYLIGHT
BEGIN:STANDARD
TZOFFSETFROM:+0200
TZOFFSETTO:+0100
TZNAME:CET
DTSTART:20221030T010000
END:STANDARD
BEGIN:DAYLIGHT
TZOFFSETFROM:+0100
TZOFFSETTO:+0200
TZNAME:CEST
DTSTART:20230326T010000
END:DAYLIGHT
BEGIN:STANDARD
TZOFFSETFROM:+0200
TZOFFSETTO:+0100
TZNAME:CET
DTSTART:20231029T010000
END:STANDARD
BEGIN:DAYLIGHT
TZOFFSETFROM:+0100
TZOFFSETTO:+0200
TZNAME:CEST
DTSTART:20240331T010000
END:DAYLIGHT
BEGIN:STANDARD
TZOFFSETFROM:+0200
TZOFFSETTO:+0100
TZNAME:CET
DTSTART:20241027T010000
END:STANDARD
END:VTIMEZONE
BEGIN:VEVENT
DTSTART;TZID=Europe/Zurich:20231026T190000
DTEND;TZID=Europe/Zurich:20231026T210000
DTSTAMP:20260420T162135
CREATED:20230615T141645Z
LAST-MODIFIED:20231004T145341Z
UID:84696-1698346800-1698354000@spzuerich.ch
SUMMARY:Delegiertenversammlung
DESCRIPTION:Weisser Saal im Volkshaus Zürich\, Stauffacherstrasse 60\, 8004 Zürich \nDelegiertenversammlungen sind partei- und medienöffentlich. \n  \n\nUnterlagen für die Delegiertenversammlung vom 26. Oktober 2023
URL:https://spzuerich.ch/veranstaltung/delegiertenversammlung-oktober2023/
LOCATION:Weisser Saal im Volkshaus\, Stauffacherstrasse 60\, Zürich\, 8004\, Switzerland
CATEGORIES:Delegiertenversammlung
END:VEVENT
END:VCALENDAR