BEGIN:VCALENDAR
VERSION:2.0
PRODID:-//SP Zürich - ECPv6.15.20//NONSGML v1.0//EN
CALSCALE:GREGORIAN
METHOD:PUBLISH
X-WR-CALNAME:SP Zürich
X-ORIGINAL-URL:https://spzuerich.ch
X-WR-CALDESC:Veranstaltungen für SP Zürich
REFRESH-INTERVAL;VALUE=DURATION:PT1H
X-Robots-Tag:noindex
X-PUBLISHED-TTL:PT1H
BEGIN:VTIMEZONE
TZID:Europe/Zurich
BEGIN:DAYLIGHT
TZOFFSETFROM:+0100
TZOFFSETTO:+0200
TZNAME:CEST
DTSTART:20240331T010000
END:DAYLIGHT
BEGIN:STANDARD
TZOFFSETFROM:+0200
TZOFFSETTO:+0100
TZNAME:CET
DTSTART:20241027T010000
END:STANDARD
BEGIN:DAYLIGHT
TZOFFSETFROM:+0100
TZOFFSETTO:+0200
TZNAME:CEST
DTSTART:20250330T010000
END:DAYLIGHT
BEGIN:STANDARD
TZOFFSETFROM:+0200
TZOFFSETTO:+0100
TZNAME:CET
DTSTART:20251026T010000
END:STANDARD
BEGIN:DAYLIGHT
TZOFFSETFROM:+0100
TZOFFSETTO:+0200
TZNAME:CEST
DTSTART:20260329T010000
END:DAYLIGHT
BEGIN:STANDARD
TZOFFSETFROM:+0200
TZOFFSETTO:+0100
TZNAME:CET
DTSTART:20261025T010000
END:STANDARD
END:VTIMEZONE
BEGIN:VEVENT
DTSTART;TZID=Europe/Zurich:20251202T190000
DTEND;TZID=Europe/Zurich:20251202T210000
DTSTAMP:20260423T174754
CREATED:20250507T124517Z
LAST-MODIFIED:20250718T114022Z
UID:94265-1764702000-1764709200@spzuerich.ch
SUMMARY:Workshop: Social Media als Kandidat:in und Unterstützer:in
DESCRIPTION:Dieser Workshop richtet sich an alle Kandidat:innen der kommunalen Wahlen 2026 im Kanton Zürich – egal ob als Exekutiv-Kandidat:in auf dem Land\, Kandidat:in für die Schulpflege oder ein Behördenamt oder als Parlaments-Kandidat:in. Gleichzeitig auch an alle motivierten Unterstützer:innen aus den Sektionen oder ausserhalb der SP\, welche die SP oder spezifische Kandidat:innen gerne aktiv auf Social Media unterstützen wollen. \nWie erstellt man gute Inhalte? Wie lässt sich der Aufwand in Grenzen halten? Wie geht man mit Kommentaren und/oder Hass um? Diese Fragen werden wir am Workshop klären. \nNach einem Input wird es sogleich auch praktisch – gemeinsam lernen wir die bestehenden Vorlagen zu nutzen und erhalten Tips&Tricks von Profis. \nReferent: Florin Schütz \nAnmeldung\nDie Platzzahl ist beschränkt. Melde dich daher jetzt noch an: \nBitte aktiviere JavaScript in deinem Browser\, um dieses Formular fertigzustellen.Bitte aktiviere JavaScript in deinem Browser\, um dieses Formular fertigzustellen.Name *VornameNachnameE-Mail-Adresse *		\n			besondere teilnehmen E-Mail-Adresse\n			\n		\n		Sektion *Kandidat:in für *bitte auswählenGemeinde-/StadtpräsidiumExekutiveParlamentSchulpflegeBehöreIch kandidiere nichtIch möchte online (auf Zoom) teilnehmenja/neinJaNeinFragen\, Bemerkungen oder besondere BedürfnisseJetzt anmelden
URL:https://spzuerich.ch/veranstaltung/workshop-social-media-als-kandidatin/
LOCATION:SP-Sekretariat\, Gartenhofstrasse 15\, Zürich\, ZH\, 8004\, Switzerland
CATEGORIES:Bildungsangebote für Vorstands- und Behördenmitglieder,Kommunalwahlen-26
END:VEVENT
END:VCALENDAR